BEGIN:VCALENDAR
VERSION:2.0
CALSCALE:GREGORIAN
PRODID:-//MyApp//Calendar 1.0//EN
BEGIN:VEVENT
METHOD:PUBLISH
UID:8749@regionalniportaly.cz
DTSTAMP:20260424T202348Z
DTSTART;VALUE=DATE:20170114
DTEND;VALUE=DATE:20170115
SUMMARY:Farní ples
DESCRIPTION:KD Rybníky od 20:00
LOCATION:Rybníky
END:VEVENT
END:VCALENDAR