BEGIN:VCALENDAR
VERSION:2.0
CALSCALE:GREGORIAN
PRODID:-//MyApp//Calendar 1.0//EN
BEGIN:VEVENT
METHOD:PUBLISH
UID:65846@regionalniportaly.cz
DTSTAMP:20260424T220620Z
DTSTART;VALUE=DATE:20260724
DTEND;VALUE=DATE:20260725
SUMMARY:Djembe Marathon 2026
DESCRIPTION:ZVEME VÁS NA FESTIVAL DJEMBE MARATHONkterý se již tradičně uskuteční v nádherném prostředíVrabčího hájku v Moravském Krumlově.&nbsp\;Užijte si nezapomenutelnou cestu kolem světa plnou rytmů.Co vás čeká?Nabitý program plný hudby a tance.Sobotní ranní jóga nebo meditace s gongdrumy pro příjemný začátek dne.&nbsp\;&nbsp\;Tradiční workshopy hry na djembe a tance pro všechny věkové kategorie.Dynamický drumcircle pod vedením zkušeného lektora.Letošní speciální nabídka: workshop hry na handpany a relax v úžasné solné jeskyni na kolečkách.Samozřejmostí je čajovna\, kavárna\, etnotrh\, dobré jídlo a pití\, ...&nbsp\;Objevte kouzlo hudby z různých koutů světa:NOVÍ KUMPÁNI - spojení afrických rytmů\, rockové psychedelie a jazzuDÁLACH - neprovařená irská tradiční hudba inspirována dávnou minulostíTUBABU - západoafrická polyrytmie a zpěv\, nově v podání tří bělochůIVO BATOUŠEK - DRUM AND DANCE - hromada perkusí ve velké taneční pártyTOMÁŠ MLADEŇ MIKULČÍK - fujara a písně slovenských horských pastýřůZENOVÝ ČAJ - didgeridoo\, flétny\, gongy a zpěv - jedinečná fúze tónů a vibrací&nbsp\;SOLEIL D’AFRIQUE - slunné setkání s africkými rytmy v exkluzivním setuBATALA PRAHA - bubenický nářez brazilského stylu samba-reggaeCAMARA - tradiční melodie\, písně a tance afrických slavností a rituálůMAMA MBAYE &amp\;&nbsp\; FALY FAYE - afro funky party za doprovodu senegalského bubeníkaMORIBAYA - strhující finále divokých rytmů domorodé africké kulturyKdy: 24. a 25. července 2026Kde: Moravský Krumlov - Vrabčí hájekPřijďte s námi sdílet radost z hudby\, tance a společného setkání.Těšíme se na vás!Festival finančně podpořilo město Moravský Krumlov a Jihomoravský kraj.
LOCATION:Moravský Krumlov
END:VEVENT
END:VCALENDAR