BEGIN:VCALENDAR
VERSION:2.0
CALSCALE:GREGORIAN
PRODID:-//MyApp//Calendar 1.0//EN
BEGIN:VEVENT
METHOD:PUBLISH
UID:65703@regionalniportaly.cz
DTSTAMP:20260421T133121Z
DTSTART;VALUE=DATE:20260429
DTEND;VALUE=DATE:20260430
SUMMARY:Čert a Káča
DESCRIPTION:Divadelní představení pro děti
LOCATION:Zbýšov
END:VEVENT
END:VCALENDAR