BEGIN:VCALENDAR
VERSION:2.0
CALSCALE:GREGORIAN
PRODID:-//MyApp//Calendar 1.0//EN
BEGIN:VEVENT
METHOD:PUBLISH
UID:64836@regionalniportaly.cz
DTSTAMP:20260422T073912Z
DTSTART;VALUE=DATE:20260326
DTEND;VALUE=DATE:20260327
SUMMARY:Nevděčné bytosti
DESCRIPTION:Nový film režiséra Olma Omerzua Nevděčné bytosti je o lidech\, kteří selhávají\, ale také o lásce\, která je k selhání vede. Jak daleko jsou rodiče ochotni zajít\, aby zachránili své dítě? Lhát\, manipulovat\, překračovat morální hranice… Co byste udělali vy na jejich místě?&nbsp\;titulky\, 110 minut
LOCATION:Zbýšov
END:VEVENT
END:VCALENDAR