BEGIN:VCALENDAR
VERSION:2.0
CALSCALE:GREGORIAN
PRODID:-//MyApp//Calendar 1.0//EN
BEGIN:VEVENT
METHOD:PUBLISH
UID:64834@regionalniportaly.cz
DTSTAMP:20260422T073932Z
DTSTART;VALUE=DATE:20260326
DTEND;VALUE=DATE:20260327
SUMMARY:Tajemství sýkorek
DESCRIPTION:
LOCATION:Zbýšov
END:VEVENT
END:VCALENDAR