BEGIN:VCALENDAR
VERSION:2.0
CALSCALE:GREGORIAN
PRODID:-//MyApp//Calendar 1.0//EN
BEGIN:VEVENT
METHOD:PUBLISH
UID:64473@regionalniportaly.cz
DTSTAMP:20260422T073902Z
DTSTART;VALUE=DATE:20260320
DTEND;VALUE=DATE:20260321
SUMMARY:Jeníček a Mařenka: Strážci kouzel
DESCRIPTION:Největší padouši pohádkové říše třeste se\, Jeníček a Mařenka jsou zpět! Fakt\, že se jim podařilo utéct ježibabě z lopaty\, zná každé malé dítě\, málokdo už ale ví\, že rozjeli vlastní byznys…Animovaný rodinný film
LOCATION:Zbýšov
END:VEVENT
END:VCALENDAR