BEGIN:VCALENDAR
VERSION:2.0
CALSCALE:GREGORIAN
PRODID:-//MyApp//Calendar 1.0//EN
BEGIN:VEVENT
METHOD:PUBLISH
UID:64472@regionalniportaly.cz
DTSTAMP:20260422T103536Z
DTSTART;VALUE=DATE:20260320
DTEND;VALUE=DATE:20260321
SUMMARY:Poberta
DESCRIPTION:Zlodějíček Lupyn\, který je čerstvě propuštěný z vězení\, se vrací do svého rodného města. Sotva se ohřeje na svobodě\, už plánuje se svými kumpány\, kteří ho předtím vyměnili za podmíněné tresty\, další kšeft. Do karet mu hraje probíhající pandemie\, výjimečná situace\, v&nbsp\;níž neplatí pravidla\, která platila dosud.Nevhodné pro nezletilé osoby do 12 let.
LOCATION:Zbýšov
END:VEVENT
END:VCALENDAR