BEGIN:VCALENDAR
VERSION:2.0
CALSCALE:GREGORIAN
PRODID:-//MyApp//Calendar 1.0//EN
BEGIN:VEVENT
METHOD:PUBLISH
UID:63993@regionalniportaly.cz
DTSTAMP:20260422T062923Z
DTSTART;VALUE=DATE:20260402
DTEND;VALUE=DATE:20260403
SUMMARY:Divadelní spolek Rotunda - Anna poklad rodiny
DESCRIPTION:Marc Camoletti / Divadelní spolek Rotunda&nbsp\;&nbsp\;ANNA POKLAD RODINY ANEB ANNA V RINGU&nbsp\;Konverzačně-situační komedie. Anna je hospodyně u Bernarda a Jacqueline. Panstvo se rozhodne\, že si vyjede na krátkou dovolenou. Anna se těší\, že bude mít jeden týden méně práce. Když jsou tedy oba pryč\, chce si doma udělat pěkný večer. Její plány však zvrátí\, když se Jaqueline v noci vrací domů s milencem a o něco později se objeví i Bernard se svou přítelkyní.&nbsp\;Hrají: Šárka Charvátová\, Marek Machal\, Jana Březovská\, Vojtěch Čabala\, Julie MikuláškováRežie: Václav Beran 110 min. / hraje se s přestávkou&nbsp\;
LOCATION:Moravský Krumlov
END:VEVENT
END:VCALENDAR