BEGIN:VCALENDAR
VERSION:2.0
CALSCALE:GREGORIAN
PRODID:-//MyApp//Calendar 1.0//EN
BEGIN:VEVENT
METHOD:PUBLISH
UID:63704@regionalniportaly.cz
DTSTAMP:20260422T142823Z
DTSTART;VALUE=DATE:20260318
DTEND;VALUE=DATE:20260319
SUMMARY:Beseda s Magdou Vašáryovou
DESCRIPTION:Beseda se známou herečkou a diplomatkou Magdou Vašáryovou.
LOCATION:Moravský Krumlov
END:VEVENT
END:VCALENDAR