BEGIN:VCALENDAR
VERSION:2.0
CALSCALE:GREGORIAN
PRODID:-//MyApp//Calendar 1.0//EN
BEGIN:VEVENT
METHOD:PUBLISH
UID:62954@regionalniportaly.cz
DTSTAMP:20260422T160833Z
DTSTART;VALUE=DATE:20260212
DTEND;VALUE=DATE:20260213
SUMMARY:NEJLEPŠÍ Z NEJLEPŠÍCH:GOAT
DESCRIPTION:
LOCATION:Zbýšov
END:VEVENT
END:VCALENDAR