BEGIN:VCALENDAR
VERSION:2.0
CALSCALE:GREGORIAN
PRODID:-//MyApp//Calendar 1.0//EN
BEGIN:VEVENT
METHOD:PUBLISH
UID:62818@regionalniportaly.cz
DTSTAMP:20260422T162446Z
DTSTART;VALUE=DATE:20260212
DTEND;VALUE=DATE:20260213
SUMMARY:Když se zhasne
DESCRIPTION:
LOCATION:Zbýšov
END:VEVENT
END:VCALENDAR