BEGIN:VCALENDAR
VERSION:2.0
CALSCALE:GREGORIAN
PRODID:-//MyApp//Calendar 1.0//EN
BEGIN:VEVENT
METHOD:PUBLISH
UID:62695@regionalniportaly.cz
DTSTAMP:20260422T110818Z
DTSTART;VALUE=DATE:20260313
DTEND;VALUE=DATE:20260314
SUMMARY:Rockový ples
DESCRIPTION:Připravte se na večer plný hudby a dobré zábavy.&nbsp\;Na Rockovém plese zahrají dvě energické kapely - bezKOFEINu a RELAX ROCK. Těšit se můžete i na bohatou tombolu.&nbsp\;
LOCATION:Oslavany
END:VEVENT
END:VCALENDAR