BEGIN:VCALENDAR
VERSION:2.0
CALSCALE:GREGORIAN
PRODID:-//MyApp//Calendar 1.0//EN
BEGIN:VEVENT
METHOD:PUBLISH
UID:62681@regionalniportaly.cz
DTSTAMP:20260422T161022Z
DTSTART;VALUE=DATE:20260130
DTEND;VALUE=DATE:20260131
SUMMARY:SPONGEBOB: PIRÁTSKÉ DOBRODRUŽSTVÍ
DESCRIPTION:
LOCATION:Zbýšov
END:VEVENT
END:VCALENDAR