BEGIN:VCALENDAR
VERSION:2.0
CALSCALE:GREGORIAN
PRODID:-//MyApp//Calendar 1.0//EN
BEGIN:VEVENT
METHOD:PUBLISH
UID:62679@regionalniportaly.cz
DTSTAMP:20260422T143011Z
DTSTART;VALUE=DATE:20260130
DTEND;VALUE=DATE:20260131
SUMMARY:RUFUS: MOŘSKÝ DRÁČEK\, KTERÝ NEUMĚL PLAVAT
DESCRIPTION:
LOCATION:Zbýšov
END:VEVENT
END:VCALENDAR