BEGIN:VCALENDAR
VERSION:2.0
CALSCALE:GREGORIAN
PRODID:-//MyApp//Calendar 1.0//EN
BEGIN:VEVENT
METHOD:PUBLISH
UID:62677@regionalniportaly.cz
DTSTAMP:20260422T110828Z
DTSTART;VALUE=DATE:20260129
DTEND;VALUE=DATE:20260130
SUMMARY:PRINCEZNA STOKRÁT JINAK
DESCRIPTION:
LOCATION:Zbýšov
END:VEVENT
END:VCALENDAR