BEGIN:VCALENDAR
VERSION:2.0
CALSCALE:GREGORIAN
PRODID:-//MyApp//Calendar 1.0//EN
BEGIN:VEVENT
METHOD:PUBLISH
UID:62648@regionalniportaly.cz
DTSTAMP:20260422T174815Z
DTSTART;VALUE=DATE:20260207
DTEND;VALUE=DATE:20260208
SUMMARY:Michal Nesvadba - Michal na hraní
DESCRIPTION:Interaktivní dětské vystoupení Michala Nesvadby se uskuteční 7. února 2026 od 10:00 v Kulturním a kreativním centrum (Divadlo v Moravském Krumlově. Program je určený pro rodiny s dětmi a je postavený na aktivním zapojení dětí do hry\, pohybu a jednoduchých kouzelných situací.Děti se během vystoupení zapojují do děje od začátku až do konce a pracují s originálními rekvizitami vyrobenými ze samolepicí pásky. Hravou formou se také učí pořádku ve svých hračkách.Po skončení vystoupení následuje focení a autogramiáda s Michalem a Bafíkem!
LOCATION:Moravský Krumlov
END:VEVENT
END:VCALENDAR