BEGIN:VCALENDAR
VERSION:2.0
CALSCALE:GREGORIAN
PRODID:-//MyApp//Calendar 1.0//EN
BEGIN:VEVENT
METHOD:PUBLISH
UID:62263@regionalniportaly.cz
DTSTAMP:20260422T092343Z
DTSTART;VALUE=DATE:20260123
DTEND;VALUE=DATE:20260124
SUMMARY:Šviháci
DESCRIPTION:Film sleduje tři kamarády\, kteří tvoří kapelu "Šviháci" a pravidelně jezdí bavit hosty do vyhlášených lázní\, kde si užívají pánskou jízdu.Příběh se dotýká témat lásky\, přátelství\, (ne)zodpovědnosti a vztahu otce a syna.
LOCATION:Zbýšov
END:VEVENT
END:VCALENDAR