BEGIN:VCALENDAR
VERSION:2.0
CALSCALE:GREGORIAN
PRODID:-//MyApp//Calendar 1.0//EN
BEGIN:VEVENT
METHOD:PUBLISH
UID:61997@regionalniportaly.cz
DTSTAMP:20260422T174622Z
DTSTART;VALUE=DATE:20260213
DTEND;VALUE=DATE:20260214
SUMMARY:O statečném kováři Mikešovi
DESCRIPTION:
LOCATION:Zbýšov
END:VEVENT
END:VCALENDAR