BEGIN:VCALENDAR
VERSION:2.0
CALSCALE:GREGORIAN
PRODID:-//MyApp//Calendar 1.0//EN
BEGIN:VEVENT
METHOD:PUBLISH
UID:61865@regionalniportaly.cz
DTSTAMP:20260422T124700Z
DTSTART;VALUE=DATE:20260203
DTEND;VALUE=DATE:20260204
SUMMARY:Listování: BLÍZCÍ
DESCRIPTION:... "O tom\, že si nebereme jenom partnera\, ale i jeho rodinu. A že právě tahle rodina může náš vztah posílit nebo úplně rozložit. Blízcí Veroniky González zůstávají v hlavě ještě dlouho po dočtení.....Tak tohle byla jízda! Silný příběh o toxických vztazích jedné vesnické rodiny. To\, jak autorka dokázala popsat tu syrovost\, intriky\, smutek a strach\, bylo opravdu něco\, emoce jak na houpačce. Nejhorší na tom je\, že se to opravdu děje......Parádní počin\, šílenost\, ale i kus něhy a dobrého. Už dlouho se mi nestalo\, aby mě nějaká kniha takhle dostala"Takové jsou reakce po přečtení této knihy. Jaké budou ty vaše?Přijďte vyzkoušet 3.2. v 18:20Místenky opět na radnici za 100\,-Účinkují: Pavla Dostálová\, Věra Hollá a Lukáš HejlíkV roce 2025 vydalo nakladatelství Motto
LOCATION:Mohelno
END:VEVENT
END:VCALENDAR