BEGIN:VCALENDAR
VERSION:2.0
CALSCALE:GREGORIAN
PRODID:-//MyApp//Calendar 1.0//EN
BEGIN:VEVENT
METHOD:PUBLISH
UID:61340@regionalniportaly.cz
DTSTAMP:20260422T074359Z
DTSTART;VALUE=DATE:20260301
DTEND;VALUE=DATE:20260302
SUMMARY:Labil Bones – Cvičenci za čárou
DESCRIPTION:Labil Bones – Cvičenci za čárou&nbsp\;Klauniérské novocirkusové představení světové úrovně o dvou sokolech u kterého bude ronit slzy smíchu. Dva excelentní klauni\, kteří díky této show byli přizváni ke spolupráci se slovutným Cirque du soleil.
LOCATION:Moravský Krumlov
END:VEVENT
END:VCALENDAR