BEGIN:VCALENDAR
VERSION:2.0
CALSCALE:GREGORIAN
PRODID:-//MyApp//Calendar 1.0//EN
BEGIN:VEVENT
METHOD:PUBLISH
UID:61339@regionalniportaly.cz
DTSTAMP:20260422T142748Z
DTSTART;VALUE=DATE:20260201
DTEND;VALUE=DATE:20260202
SUMMARY:Noryiuki Sawa – Pohádky
DESCRIPTION:Noryiuki Sawa – Pohádky - famózní japonský loutkář předvede své pásmo tradičních pohádek v&nbsp\;netradičním a originálním provedení. Uvidíte několik kratších&nbsp\;pohádek\, každou za použití&nbsp\;jiné&nbsp\;výtvarné&nbsp\;techniky. A jazykové bariéry se nemusíte bát. Nori umí velmi roztomile česky.
LOCATION:Moravský Krumlov
END:VEVENT
END:VCALENDAR