BEGIN:VCALENDAR
VERSION:2.0
CALSCALE:GREGORIAN
PRODID:-//MyApp//Calendar 1.0//EN
BEGIN:VEVENT
METHOD:PUBLISH
UID:61289@regionalniportaly.cz
DTSTAMP:20260422T163720Z
DTSTART;VALUE=DATE:20251219
DTEND;VALUE=DATE:20251220
SUMMARY:AVATAR: OHEŇ A POPEL
DESCRIPTION:Jackeova a Neytřina rodina se potýká se zármutkem po Neteyannově smrti a střetává se snovým agresivním kmenem Na’avi\, popelavým lidem\, který vede ohnivá Vanny\, zatímco konflikt na Pandoře eskaluje… Akční dobrodružné sci-fi fantasy dramaScénář a režie: James Cameron
LOCATION:Zbýšov
END:VEVENT
END:VCALENDAR