BEGIN:VCALENDAR
VERSION:2.0
CALSCALE:GREGORIAN
PRODID:-//MyApp//Calendar 1.0//EN
BEGIN:VEVENT
METHOD:PUBLISH
UID:61235@regionalniportaly.cz
DTSTAMP:20260422T124752Z
DTSTART;VALUE=DATE:20260223
DTEND;VALUE=DATE:20260224
SUMMARY:Talkshow s Markem Orko Váchou a Sarah Haváčovou
DESCRIPTION:Bůh na bitevním poli Talkshow s Markem Orko Váchou a Sarah HaváčovouŽivot nás občas postaví doprostřed dění\, kde se bojuje o klid\, odvahu i víru v to\, co nás přesahuje. Jak se v takových chvílích neztratit? A kde hledat světlo\, když se zdá\, že kolem je tma?Marek Orko Vácha – kněz\, biolog a autor knih – nabídne pohled na to\, proč má smysl se zastavit\, vydat se na pouť a znovu si ujasnit\, co nám v životě dává pevnou půdu pod nohama.Sarah Haváčová - herečka\, autorka autobiografie “Nečekat”\, přinese zkušenosti z cest: od duchovních momentů ve Fatimě po dobrovolnickou práci v Tanzanii a na Ukrajině. Prozradí\, proč se rozhodla vstoupit do aktivních záloh české armády\, a za co stojí bojovat.Moderuje Eva FruhwirtováDélka pořadu je 90 min.
LOCATION:Moravský Krumlov
END:VEVENT
END:VCALENDAR