BEGIN:VCALENDAR
VERSION:2.0
CALSCALE:GREGORIAN
PRODID:-//MyApp//Calendar 1.0//EN
BEGIN:VEVENT
METHOD:PUBLISH
UID:61199@regionalniportaly.cz
DTSTAMP:20260422T110839Z
DTSTART;VALUE=DATE:20260111
DTEND;VALUE=DATE:20260112
SUMMARY:Novoroční koncert 2026
DESCRIPTION:Tradiční "Novoroční koncert"\, vystoupí Smíšený pěvecký sbor Karla Němečka Moravský Krumlov\, dirigent: Jan Svoboda.&nbsp\;
LOCATION:Moravský Krumlov
END:VEVENT
END:VCALENDAR