BEGIN:VCALENDAR
VERSION:2.0
CALSCALE:GREGORIAN
PRODID:-//MyApp//Calendar 1.0//EN
BEGIN:VEVENT
METHOD:PUBLISH
UID:61028@regionalniportaly.cz
DTSTAMP:20260422T074520Z
DTSTART;VALUE=DATE:20260307
DTEND;VALUE=DATE:20260308
SUMMARY:Ochutnávka vín
DESCRIPTION:Zveme Vás na XIX. ročník tradiční&nbsp\;Ochutnávky&nbsp\;vín v Moravských Bránicích.Jedná se o&nbsp\;prezentaci&nbsp\;vín především z&nbsp\;dolnokounické oblasti\, ale i&nbsp\;z širšího okolí.&nbsp\;Výstava proběhne v místní sokolovně. Letos máme připraveno 463 vzorků vín.PROGRAM:13:00 Otevření Sokolovny14:00 ZAHÁJENÍ16:00 CM GRAJCAR17:00 Vyhlášení šampionů21:00 Konec oficiální části21:30 Afterparty23:59 UKONČENÍK tanci a poslechu bude hrát cimbálová muzika&nbsp\;GRAJCAR.&nbsp\;V ceně:&nbsp\;neomezená degustace vín\,&nbsp\;sklenička a&nbsp\;katalog.Občerstvení zajišťuje T.J.Sokol\, oddíl kopané.&nbsp\;Srdečně zvou bráničtí zahrádkáři!
LOCATION:Moravské Bránice
END:VEVENT
END:VCALENDAR