BEGIN:VCALENDAR
VERSION:2.0
CALSCALE:GREGORIAN
PRODID:-//MyApp//Calendar 1.0//EN
BEGIN:VEVENT
METHOD:PUBLISH
UID:60781@regionalniportaly.cz
DTSTAMP:20260422T074550Z
DTSTART;VALUE=DATE:20260312
DTEND;VALUE=DATE:20260313
SUMMARY:Peter Lipa (SK)
DESCRIPTION:Jazzová legenda a&nbsp\;patron znojemského Jazzfestu bude tentokrát hostem v&nbsp\;novém Kreativním a&nbsp\;kulturním centru v&nbsp\;Moravském Krumlově. Peter Lipa je považován za&nbsp\;nejvýraznější osobnost slovenské jazzové scény a&nbsp\;patří k&nbsp\;umělcům\, kteří zásadním způsobem ovlivnili podobu moderního jazzu ve&nbsp\;střední Evropě. Jeho tvorba vychází z&nbsp\;hlubokého porozumění jazzové a&nbsp\;bluesové tradici\, kterou obohacuje o&nbsp\;osobitý vokální projev a&nbsp\;charakteristický autorský rukopis.
LOCATION:Moravský Krumlov
END:VEVENT
END:VCALENDAR