BEGIN:VCALENDAR
VERSION:2.0
CALSCALE:GREGORIAN
PRODID:-//MyApp//Calendar 1.0//EN
BEGIN:VEVENT
METHOD:PUBLISH
UID:60706@regionalniportaly.cz
DTSTAMP:20260422T142933Z
DTSTART;VALUE=DATE:20251127
DTEND;VALUE=DATE:20251128
SUMMARY:Zootropolis: Město zvířat 2
DESCRIPTION:
LOCATION:Zbýšov
END:VEVENT
END:VCALENDAR