BEGIN:VCALENDAR
VERSION:2.0
CALSCALE:GREGORIAN
PRODID:-//MyApp//Calendar 1.0//EN
BEGIN:VEVENT
METHOD:PUBLISH
UID:60216@regionalniportaly.cz
DTSTAMP:20260422T192212Z
DTSTART;VALUE=DATE:20260110
DTEND;VALUE=DATE:20260111
SUMMARY:Ples města Moravský Krumlov 2026
DESCRIPTION:Tradiční Ples města Moravský Krumlov.&nbsp\;
LOCATION:Moravský Krumlov
END:VEVENT
END:VCALENDAR