BEGIN:VCALENDAR
VERSION:2.0
CALSCALE:GREGORIAN
PRODID:-//MyApp//Calendar 1.0//EN
BEGIN:VEVENT
METHOD:PUBLISH
UID:60198@regionalniportaly.cz
DTSTAMP:20260422T142812Z
DTSTART;VALUE=DATE:20260311
DTEND;VALUE=DATE:20260312
SUMMARY:Divadlo Verze – Lež aneb komedie o pravdě
DESCRIPTION:Divadlo Verze – Lež aneb komedie o pravděKomedie o tom do jak komplikovaných situací vás může zavézt lež. Jak je těžké poznat\, kdo je vlastně lhářem a jestli nakonec není lež milosrdnější než pravda.&nbsp\;Alice a Paul jsou poměrně šťastný a spokojený manželský pár. Jednoho dne čekají hosty k večeři – své dlouholeté přátele Laurence a Michela\, kteří také žijí v harmonickém manželství. Alice je ale celá nesvá a žádá po manželovi\, aby večeři na poslední chvíli odvolal. Ten a chce znát důvod\, proč? Ona mu pravý důvod nechce říct: toho dne dopoledne zahlédla ve městě Michela\, jak se líbá s cizí ženou. Jejich hosté jsou už ale za dveřmi a návštěvu není možné zrušit…Režie: Thomas ZielinskyHrají: Petra špalková\, Petr Lněnička\, Eva Kodešová/Gabriela Mikulková\, Igor Chmela.Délka představení: 1 hod 40 minut bez přestávky&nbsp\;
LOCATION:Moravský Krumlov
END:VEVENT
END:VCALENDAR