BEGIN:VCALENDAR
VERSION:2.0
CALSCALE:GREGORIAN
PRODID:-//MyApp//Calendar 1.0//EN
BEGIN:VEVENT
METHOD:PUBLISH
UID:60083@regionalniportaly.cz
DTSTAMP:20260422T155538Z
DTSTART;VALUE=DATE:20251221
DTEND;VALUE=DATE:20251222
SUMMARY:Divadlo DIP - Vánoční stromocity
DESCRIPTION:VÁNOČNÍ STROMOCITYInteraktivní storytellingové představení. Tři příběhy\, tři zastavení v zámeckém parku.Určeno pro děti 3+Délka představení:&nbsp\;50 minutPředstavení o stromech\, sněhu\, Vánocích a všem\, co v sobě ukrývají.Tři příběhy s vánoční tematikou&nbsp\;(o tom\, jak se zrodila zima\, proč bychom měli o Vánocích myslet na druhé\, a hvězdě\, kterou nosíme všichni v srdci).Během představení se děti naučí krátkou písničku.Představení v dětech probouzí vánoční atmosféru a vede je k nesobeckému nahlížení na vánoční čas.Hrají:&nbsp\;Juliána Vališková&nbsp\;V případě nepříznivého počasí se představení odehraje v Kulturním a kreativním centru - Palackého 60\, Moravský Krumlov&nbsp\;
LOCATION:Moravský Krumlov
END:VEVENT
END:VCALENDAR