BEGIN:VCALENDAR
VERSION:2.0
CALSCALE:GREGORIAN
PRODID:-//MyApp//Calendar 1.0//EN
BEGIN:VEVENT
METHOD:PUBLISH
UID:60082@regionalniportaly.cz
DTSTAMP:20260422T092433Z
DTSTART;VALUE=DATE:20260121
DTEND;VALUE=DATE:20260122
SUMMARY:Agentura Harlekýn - Scény z Manželského života
DESCRIPTION:21.1. 2026 – 19:00 - Agentura Harlekýn - Scény z&nbsp\;manželského života (Ingmar Bergman)Jeden z&nbsp\;nejupřímnějších milostných příběhů 20. století předvádí všechny polohy milostného vztahu\, od prvotního okouzlení až po brutální rvačku. Je v&nbsp\;něm ale také pořádná dávka naděje\, že ti\, co spolu prožili život\, jsou svázáni něžným poutem a jeden pro druhého se nikdy nemohou stát cizinci. Univerzitní vědec a právnička představují dokonalý pár. Ale jak to tak bývá\, pod povrchem číhají problémy.Režie: Vladimír StrniskoHrají: Michaela Badinková\, Michal Dlouhý\, Kamil Halbich/Vasil Fridrich\, Barbora Lukešová/Lenka Zbranková&nbsp\;Délka představení: cca 130 minut včetně přestávky&nbsp\;&nbsp\;
LOCATION:Moravský Krumlov
END:VEVENT
END:VCALENDAR