BEGIN:VCALENDAR
VERSION:2.0
CALSCALE:GREGORIAN
PRODID:-//MyApp//Calendar 1.0//EN
BEGIN:VEVENT
METHOD:PUBLISH
UID:60081@regionalniportaly.cz
DTSTAMP:20260422T074539Z
DTSTART;VALUE=DATE:20260227
DTEND;VALUE=DATE:20260228
SUMMARY:"Spolek Kašpar\, Divadlo v Celetné" - Slovácko sa nesúdí
DESCRIPTION:“Spolek Kašpar\, Divadlo v celetné”&nbsp\;– Slovácko sa nesúdí s cimbálou LašárPovídkový večer s&nbsp\;koštem. Večer nejen s&nbsp\;vínem\, ale určitě o vínu! A taky o lidech\, kteří jdou do všeho naplno. Vybrané klasické folklórní vyprávěny slováckého kronikáře Zdeňka Galušky\, které patří k&nbsp\;dobrému moravskému vínu či slivovičce. A to vše za doprovodu šestičlenné velkopavlovické cimbálky Lašár.Hrají: Eva Elsnerová\, Petr Halíček\, Daniel Pivoda OndráčekRežie Filip Nuckolls&nbsp\;
LOCATION:Moravský Krumlov
END:VEVENT
END:VCALENDAR