BEGIN:VCALENDAR
VERSION:2.0
CALSCALE:GREGORIAN
PRODID:-//MyApp//Calendar 1.0//EN
BEGIN:VEVENT
METHOD:PUBLISH
UID:59867@regionalniportaly.cz
DTSTAMP:20260422T074500Z
DTSTART;VALUE=DATE:20260308
DTEND;VALUE=DATE:20260309
SUMMARY:Ondřej Vetchý a Michal Novotný ...jak je neznáte
DESCRIPTION:
LOCATION:Zbýšov
END:VEVENT
END:VCALENDAR