BEGIN:VCALENDAR
VERSION:2.0
CALSCALE:GREGORIAN
PRODID:-//MyApp//Calendar 1.0//EN
BEGIN:VEVENT
METHOD:PUBLISH
UID:59453@regionalniportaly.cz
DTSTAMP:20260422T155559Z
DTSTART;VALUE=DATE:20251213
DTEND;VALUE=DATE:20251214
SUMMARY:Divadlo Verze - Mesiáš
DESCRIPTION:Absolutní vánoční klasika – celosvětově úspěšná komedie o největším příběhu všech dob. Hra plná montypythonovského humoru.David a Igor se pokusí o nemožné… celý příběh Vánoc zahrají ve dvou! A důvod? Divadlo musí šetřit\, nejsou peníze na další herce ani na zvířata. S odvahou a beze strachu se vrhnou do orientálního mumraje\, který se odehrál okolo narození Krista.Skvěle odehraný vánoční příběh\, kde nechybí humor ani poetické chvíle a také božský zpěv Bereniky Suchánkové.Režie: Thomas ZielinksiHrají: Igor Chmela\, David Prachař a Berenika SuchánkováDélka představení: 2 hodiny i s&nbsp\;přestávkou.Doporučený věk 12 let&nbsp\;&nbsp\;
LOCATION:Moravský Krumlov
END:VEVENT
END:VCALENDAR