BEGIN:VCALENDAR
VERSION:2.0
CALSCALE:GREGORIAN
PRODID:-//MyApp//Calendar 1.0//EN
BEGIN:VEVENT
METHOD:PUBLISH
UID:59421@regionalniportaly.cz
DTSTAMP:20260422T110939Z
DTSTART;VALUE=DATE:20251229
DTEND;VALUE=DATE:20251230
SUMMARY:Koncert DYJAVAN
DESCRIPTION:Koncert Cimbálové muziky Dyjavan.
LOCATION:Moravský Krumlov
END:VEVENT
END:VCALENDAR