BEGIN:VCALENDAR
VERSION:2.0
CALSCALE:GREGORIAN
PRODID:-//MyApp//Calendar 1.0//EN
BEGIN:VEVENT
METHOD:PUBLISH
UID:59062@regionalniportaly.cz
DTSTAMP:20260422T185520Z
DTSTART;VALUE=DATE:20251206
DTEND;VALUE=DATE:20251207
SUMMARY:GATE Crasher a Ratcells v Horních Dubňanech
DESCRIPTION:Jedinečný&nbsp\;rockový večer s&nbsp\;GATE Crasher a Ratcells v Horních Dubňanech!Sobota 6.12.2025\, 19:00Kulturní dům\,&nbsp\;Horní Dubňany 12\, 671 73&nbsp\;Horní Dubňany&nbsp\;GATE CrasherRocková smršť GATE Crasher je stále známějším jménem na domácí scéně. Pravidelně vystupuje na největších letních festivalech\, hrála jako host zahraničních hvězd (Aerosmith\, Ozzy Osbourne\, Korn\, Iron Maiden ..) a aktuálně boduje s novinkami TŘI KŘÍŽE a JAKO VLCI\, které se rychle stávají nejúspěšnějšími písněmi v její historii.Po vydání aktuální desky "Pro tohle my žijem" (2024)&nbsp\;kapela zaznamenala raketový nárůst zájmu fanoušků&nbsp\;jak na živých vystoupeních\, tak na online platformách. Klip k písni&nbsp\;Tři kříže&nbsp\;si na YouTube za první rok od zveřejnění přehrálo více než milion posluchačů.&nbsp\;Speciální host večera:RatcellsRatcells je dívčí kapela z Třebíče\, složená z pěti talentovaných dívek. Zaměřují se na převzatou rockovou hudbou\, ale tvoří i svoji muziku v metalově alternativním stylu.&nbsp\;
LOCATION:Horní Dubňany
END:VEVENT
END:VCALENDAR