BEGIN:VCALENDAR
VERSION:2.0
CALSCALE:GREGORIAN
PRODID:-//MyApp//Calendar 1.0//EN
BEGIN:VEVENT
METHOD:PUBLISH
UID:58840@regionalniportaly.cz
DTSTAMP:20260422T124649Z
DTSTART;VALUE=DATE:20251124
DTEND;VALUE=DATE:20251125
SUMMARY:MaminkOFF - Aby se mámy mohly nadechnout
DESCRIPTION:Kolik toho unese průměrná česká máma? A kolik je toho na ni naloženo? Co se o matkách říká? A o čem se nahlas nemluví? Co si ona myslí o těch druhých? A jak smýšlí sama o sobě? Existuje vůbec dokonalá maminka – ta nejlepší na světě?O tom vám budeme vyprávět\, zpívat a hrát (si). O čtyřech ženách\, o jejich snech\, o jejich dětech i mužích. A taky o jejich maminkách. Protože i mámy mají mámy.Po představení bude následovat diskuze provázená psycholožkou Janou Kopeckou\, kde můžeme společně sdílet vlastní příběhy. Kde všechna témata jsou dovolena a kde soudy a nálepky necháme za dveřmi a připomeneme si\, že i rodiče jsou především taky jenom lidi.Během představení a diskuze nabízíme workshop pro děti nazvaný "maminkám" určený pro rodiče\, kteří nechtějí jen tak odkládat děti\, ale chtějí pro ně plnohodnotný program\, aby si v klidu mohli užít chvilku pro sebe.Děti si zde zahrají divadelní hry a vyrobí si loutku pro svou maminku.Workshop nabízíme pro děti od 3 do 10 let.&nbsp\;Děti si budou hrát v budově KKC v tělocvičně sokolovny.Je třeba děti nahlásti dopředu. Jejich počet je omezen.Diskuze: vede Jana Kopecká - 50 minut. Bude&nbsp\;probíhat rovnou v sále.Workshop v tělocvičně nad sálem: vede Matěj Mužík a Nikola&nbsp\;IzaiaszováČas: max 3h (počítá se s pauzou mezi představením a diskuzí)
LOCATION:Moravský Krumlov
END:VEVENT
END:VCALENDAR