BEGIN:VCALENDAR
VERSION:2.0
CALSCALE:GREGORIAN
PRODID:-//MyApp//Calendar 1.0//EN
BEGIN:VEVENT
METHOD:PUBLISH
UID:58834@regionalniportaly.cz
DTSTAMP:20260422T155508Z
DTSTART;VALUE=DATE:20251031
DTEND;VALUE=DATE:20251101
SUMMARY:Tlapky na pedály: Velká cena Evropy
DESCRIPTION:
LOCATION:Zbýšov
END:VEVENT
END:VCALENDAR