BEGIN:VCALENDAR
VERSION:2.0
CALSCALE:GREGORIAN
PRODID:-//MyApp//Calendar 1.0//EN
BEGIN:VEVENT
METHOD:PUBLISH
UID:58833@regionalniportaly.cz
DTSTAMP:20260422T185729Z
DTSTART;VALUE=DATE:20251031
DTEND;VALUE=DATE:20251101
SUMMARY:Tafiti a kámoši z pouště
DESCRIPTION:
LOCATION:Zbýšov
END:VEVENT
END:VCALENDAR