BEGIN:VCALENDAR
VERSION:2.0
CALSCALE:GREGORIAN
PRODID:-//MyApp//Calendar 1.0//EN
BEGIN:VEVENT
METHOD:PUBLISH
UID:58825@regionalniportaly.cz
DTSTAMP:20260422T143017Z
DTSTART;VALUE=DATE:20251024
DTEND;VALUE=DATE:20251025
SUMMARY:Záplaťák
DESCRIPTION:
LOCATION:Zbýšov
END:VEVENT
END:VCALENDAR