BEGIN:VCALENDAR
VERSION:2.0
CALSCALE:GREGORIAN
PRODID:-//MyApp//Calendar 1.0//EN
BEGIN:VEVENT
METHOD:PUBLISH
UID:58796@regionalniportaly.cz
DTSTAMP:20260422T202104Z
DTSTART;VALUE=DATE:20260208
DTEND;VALUE=DATE:20260209
SUMMARY:My děti ze stanice ZOO
DESCRIPTION:Příběh\, který šokoval svět! V 70. letech propukla v tehdejším Západním Berlínu narkomanská epidemie\, která zmítala teenagery i děti. Jednou z nich byla Christiane F. Ta svůj příběh plný drog\, prostituce a osamělosti otevřeně a bez příkras popsala veřejnosti. Zažijte nepřikrášlenou divadelní adaptaci kultovní knihy o existenčních problém dospívající mládeže\, které rezonují i dnes.„Chvíli jsem si představovala\, jak by to bylo krásné\, kdyby na mě matka ještě čekala. Koupila jsem si fet\, šlehla si a šla spát na stanici. Potřebovala jsem peníze pro případ\, že bych nesehnala žádného zákazníka na noc a musela jít do penzionu.“ Z nudy na diskotéku\, z párty do husté partie a odtud jednosměrným lístkem na stanici\, kde se život odvíjí podle toho\, jestli máš nebo nemáš? Kultovní příběh Christiane F. a jejích kamarádů ze západního Berlína zmítaných v narkomanské epidemii je fackou společnosti\, kterou nezaškodí jednou za čas uštědřit. Inscenace mladého autorského týmu předestírá známý příběh z pohledu hlavní hrdinky\, s níž se divák setkává jak na začátku její závislosti\, tak i na jejím pomyslném konci. Prožívá s ní zamilování\, zklamání\, naději\, rezignaci\, odpor i nenávist. Smršť emocí v jejich surové formě\, které se nalepí na člověka a provázejí ho až domů.Adaptace se chopili mladí divadelní umělci a kulturní platforma OZ Artefakt\, kteří navzdory tíživému charakteru příběhu do něj vnesli i dávku humoru a mladickou energii.&nbsp\;My děti ze stanice ZOO Režie: Dávid Vyhnánek Text: Martin Krč Dramaturgie: Martin Krč Hrají: Marie Grov\, Viktor Skarpíšek\, Veronika Kratochvílová\, Štěpán Hudecký\, Adéla Kročáková Scéna a kostýmy: Jana Němečková Světelný design: Jindřich Hudeček Produkce: o.z. Artefakt&nbsp\;Představení není vhodné pro diváky do 15 let.
LOCATION:Zbýšov
END:VEVENT
END:VCALENDAR