BEGIN:VCALENDAR
VERSION:2.0
CALSCALE:GREGORIAN
PRODID:-//MyApp//Calendar 1.0//EN
BEGIN:VEVENT
METHOD:PUBLISH
UID:58713@regionalniportaly.cz
DTSTAMP:20260422T172428Z
DTSTART;VALUE=DATE:20251003
DTEND;VALUE=DATE:20251004
SUMMARY:Superbráška
DESCRIPTION:
LOCATION:Zbýšov
END:VEVENT
END:VCALENDAR