BEGIN:VCALENDAR
VERSION:2.0
CALSCALE:GREGORIAN
PRODID:-//MyApp//Calendar 1.0//EN
BEGIN:VEVENT
METHOD:PUBLISH
UID:58434@regionalniportaly.cz
DTSTAMP:20260422T160823Z
DTSTART;VALUE=DATE:20251103
DTEND;VALUE=DATE:20251104
SUMMARY:Divadlo Ungelt - Pstruzi
DESCRIPTION:Italská komedie o obavách\, kterým lze čelit jen s humorem. Děj se odehrává v&nbsp\;Římě\, kde čeká netrpělivá manželka na svého opozdilého muže. Ten přichází s obálkou\, ve které jsou výsledky kontrolního vyšetření. Její obsah je nejdřív vyděsí\, pak ale zjistí\, že je určena pro někoho jiného. Dopis konečně nalezl svého adresáta. Náhodný omyl přivede Maurizia k&nbsp\;Luigimu\, čerstvě zamilovanému dělníkovi z místní továrny\, který je zároveň vášnivý rybář. Potkávají se na břehu řeky Aniene a spřátelí se. Obsah obálky si ale stále vynucuje pozornost…Režie: Jakub ŠmídHrají: Pavel Liška\, Jaromír Dulava a Alena MihulováObvyklá délka představení je 2 hodiny včetně přestávky.&nbsp\;
LOCATION:Moravský Krumlov
END:VEVENT
END:VCALENDAR