BEGIN:VCALENDAR
VERSION:2.0
CALSCALE:GREGORIAN
PRODID:-//MyApp//Calendar 1.0//EN
BEGIN:VEVENT
METHOD:PUBLISH
UID:58222@regionalniportaly.cz
DTSTAMP:20260422T074530Z
DTSTART;VALUE=DATE:20260304
DTEND;VALUE=DATE:20260305
SUMMARY:Galakoncert Štefan Margita a Moravské klavírní trio
DESCRIPTION:
LOCATION:Zbýšov
END:VEVENT
END:VCALENDAR