BEGIN:VCALENDAR
VERSION:2.0
CALSCALE:GREGORIAN
PRODID:-//MyApp//Calendar 1.0//EN
BEGIN:VEVENT
METHOD:PUBLISH
UID:57976@regionalniportaly.cz
DTSTAMP:20260422T202154Z
DTSTART;VALUE=DATE:20251212
DTEND;VALUE=DATE:20251213
SUMMARY:Koncert "BAROKNÍ A KLASICISTNÍ OSVĚŽENÍ"
DESCRIPTION:Soubor Viennese Tuning Times založil sólový hráč historický violon student JAMU\, Sebastian Brettfeld a je tvořen triem - kvartetem akademicky studovaných hudebníků - zpěv soprán\, mezzosoprán\, violon a viola a&nbsp\; vystupuje s širokým repertoárem vážné hudby od baroka po romantismus pro různé příležitosti\, oslavy\, včetně adventních\, vánočních a dalších.
LOCATION:Moravský Krumlov
END:VEVENT
END:VCALENDAR