BEGIN:VCALENDAR
VERSION:2.0
CALSCALE:GREGORIAN
PRODID:-//MyApp//Calendar 1.0//EN
BEGIN:VEVENT
METHOD:PUBLISH
UID:57046@regionalniportaly.cz
DTSTAMP:20260422T144547Z
DTSTART;VALUE=DATE:20251009
DTEND;VALUE=DATE:20251010
SUMMARY:Kurz pečení kváskového chleba
DESCRIPTION:Ukážeme&nbsp\;Vám skvělý recept&nbsp\;na zdravý\,chutný a voňavý&nbsp\;chleba ve třech&nbsp\;jednoduchých&nbsp\;krocích.Zvládne to vytížená&nbsp\;manažerka i máma s dětmi.&nbsp\;Dokonce i chlap.Domů si odnesete:• vlastnoručně upečený bochník• „polotovar“ na druhý chleba• živý kvásek pro Vaše další pečení• podklady s recepty a vychytávkami• telefonní kontakt pro případ nouzeTaké ochutnáte&nbsp\;více druhů kváskového pečivaa jako bonus si připravíme zdravou\, rychlou svačinku – pomazánku.S&nbsp\;sebou si vezměte:mísu o objemu min. 1\,5 až 2 litry\, ideálně s&nbsp\;víkem\,skleničku na kvásek\, přezůvky\, příp. zástěru.Místo kurzu:Dobelice 110\, sídlo spolku ALMA (navigace funkční na mapy.com)\, GPS:&nbsp\;49.0182256N\, 16.2803669EVolejte při příjezdu na tel.: 602 782 280\, řekneme Vám\, kde zaparkovat.Doba trvání kurzu: 5 - 6 hodin.Omezená kapacita: max. 6 osob.Zaplacením si rezervujete místo na kurzu.Kurzem provází Alena Pečerová v rámci projektu VEGETIME.Pořadatel: ALMA\, z.s.\, Dobelice 110\, IČ: 265 40 002\, tel.: 602 782 280.&nbsp\;
LOCATION:Dobelice
END:VEVENT
END:VCALENDAR