BEGIN:VCALENDAR
VERSION:2.0
CALSCALE:GREGORIAN
PRODID:-//MyApp//Calendar 1.0//EN
BEGIN:VEVENT
METHOD:PUBLISH
UID:56944@regionalniportaly.cz
DTSTAMP:20260422T172438Z
DTSTART;VALUE=DATE:20251016
DTEND;VALUE=DATE:20251017
SUMMARY:Komediograf - Jak se Husákovi zdálo\, že je Věra Čáslavská
DESCRIPTION:Komediograf – Jak se Husákovi zdálo\, že je Věra ČáslavskáGustáv Husák a Věra Čáslavská – dva protipóly jednoho období. Anoda a Katoda. Není lepší zadání pro grotesku. Není lepší východisko pro klauny. Originální zpracování naší nedávné minulosti.&nbsp\;V&nbsp\;roli Gustava&nbsp\; Husáka exceluje Tomáš Matonoha a skvěle mu sekunduje Tomáš Měcháček. Hra se skládá ze dvou částí\, a protože byl Husák „párkovej“ podává se divákům v&nbsp\;pauze studený párek a teplé pivo\, dva neoddělitelné symboly doby.&nbsp\;Režie: Luboš BalákHrají: Tomáš Matonoha\, Tomáš Měcháček&nbsp\;Délka představení: 120 minut i s&nbsp\;pauzouCena: 350 Kč&nbsp\;
LOCATION:Moravský Krumlov
END:VEVENT
END:VCALENDAR