BEGIN:VCALENDAR
VERSION:2.0
CALSCALE:GREGORIAN
PRODID:-//MyApp//Calendar 1.0//EN
BEGIN:VEVENT
METHOD:PUBLISH
UID:56940@regionalniportaly.cz
DTSTAMP:20260422T155433Z
DTSTART;VALUE=DATE:20251112
DTEND;VALUE=DATE:20251113
SUMMARY:V RYTMU TANCE
DESCRIPTION:ANOTACE TALKSHOW Martiny Viktorie Kopecké\, farářky Církve československé husitské a&nbsp\; Zbigniewa Czendlika\, římskokatolického knězeV RYTMU TANCE&nbsp\;…ona o sobě tvrdí\, že je spíše introvertka\, zatímco on se charakterizuje jako rozkošný rebel. On ve víře vychováván\, ona si k ní našla cestu v dospělosti. Oba šli za hlasem svého srdce a stali se duchovními. Ona se již dvakrát osobně setkala s papežem\, on po tom stále jen touží. Ona si nejvíc odpočine v galerii na výstavě\, zatímco on sledováním sportovních přenosů.Přestože ona se stala finalistkou pořadu Stardance a on o sobě tvrdí\, že na tanec nemá talent\, pojí je společný pohled na svět v mínění\, že život by měl být tancem\, že se odehrává v rozličných rytmech\, a že protančit život je lepší než jím jen tak prolítnout….&nbsp\;Délka pořadu je 90 min.
LOCATION:Moravský Krumlov
END:VEVENT
END:VCALENDAR