BEGIN:VCALENDAR
VERSION:2.0
CALSCALE:GREGORIAN
PRODID:-//MyApp//Calendar 1.0//EN
BEGIN:VEVENT
METHOD:PUBLISH
UID:56922@regionalniportaly.cz
DTSTAMP:20260423T001138Z
DTSTART;VALUE=DATE:20250906
DTEND;VALUE=DATE:20250907
SUMMARY:Komediograf - Komedie o komikovi
DESCRIPTION:Komediograf – Komedie o komikoviStárnoucí komik ovšem ve „skvělé“&nbsp\;formě (Miroslav Táborský)&nbsp\;se po svém vystoupení vrací do hotelového pokoje.&nbsp\;Během večera ho navštíví 9 postav (Filip Teller).&nbsp\;Bilancují život\, připomínají si své slavné skeče a hledají způsob\, jak se důstojně rozloučit. Inscenace plná humoru\, nadhledu i dojetí.&nbsp\;Vybroušená šou\, kterou diváci milují.&nbsp\;Scénář a režie:&nbsp\;Luboš Balák\, Divadlo KomediografHrají: Miroslav Táborský a Filip Teller.Délka představení:&nbsp\;přibližně 110 minut s přestávkou.
LOCATION:Moravský Krumlov
END:VEVENT
END:VCALENDAR