BEGIN:VCALENDAR
VERSION:2.0
CALSCALE:GREGORIAN
PRODID:-//MyApp//Calendar 1.0//EN
BEGIN:VEVENT
METHOD:PUBLISH
UID:56920@regionalniportaly.cz
DTSTAMP:20260422T202250Z
DTSTART;VALUE=DATE:20251007
DTEND;VALUE=DATE:20251008
SUMMARY:KONCERT "Od baroka k Nemocnici na kraji města"
DESCRIPTION:„Duo Adamus-Marešová“ se specializuje na skladby barokních skladatelů. Spojení hoboje a varhan je neobvyklé a výsledný zvuk je pro posluchače příjemný. Jan Adamus je vítězem Mezinárodní soutěže Pražského jara\, jako první hobojista v Českých zemích začal využívat tzv. věčný dech\, který mu umožňuje hrát bez přerušení dlouhé pasáže. Zajímavostí je\, že natočil znělku k Nemocnicina kraji města. Kromě znělky zazní na koncertě ještě některé další melodie ze seriálu\, které mistrněrozvine varhanice Marešová\, skvělá improvizátorka. Z období romantizmu zahraje Duo Adamus- Marešová populární „Labuť a slavné „Largo“. Varhanice Marešová je nejen vynikající doprovázečka\, ale taky sólistka a představí se v několika sóĺových skladbách.
LOCATION:Moravský Krumlov
END:VEVENT
END:VCALENDAR